BEGIN:VCALENDAR
VERSION:2.0
PRODID:-//The Greens at Irem Clubhouse - ECPv6.15.20//NONSGML v1.0//EN
CALSCALE:GREGORIAN
METHOD:PUBLISH
X-ORIGINAL-URL:https://thegreensatirem.com
X-WR-CALDESC:Events for The Greens at Irem Clubhouse
REFRESH-INTERVAL;VALUE=DURATION:PT1H
X-Robots-Tag:noindex
X-PUBLISHED-TTL:PT1H
BEGIN:VTIMEZONE
TZID:America/New_York
BEGIN:DAYLIGHT
TZOFFSETFROM:-0500
TZOFFSETTO:-0400
TZNAME:EDT
DTSTART:20240310T070000
END:DAYLIGHT
BEGIN:STANDARD
TZOFFSETFROM:-0400
TZOFFSETTO:-0500
TZNAME:EST
DTSTART:20241103T060000
END:STANDARD
BEGIN:DAYLIGHT
TZOFFSETFROM:-0500
TZOFFSETTO:-0400
TZNAME:EDT
DTSTART:20250309T070000
END:DAYLIGHT
BEGIN:STANDARD
TZOFFSETFROM:-0400
TZOFFSETTO:-0500
TZNAME:EST
DTSTART:20251102T060000
END:STANDARD
BEGIN:DAYLIGHT
TZOFFSETFROM:-0500
TZOFFSETTO:-0400
TZNAME:EDT
DTSTART:20260308T070000
END:DAYLIGHT
BEGIN:STANDARD
TZOFFSETFROM:-0400
TZOFFSETTO:-0500
TZNAME:EST
DTSTART:20261101T060000
END:STANDARD
END:VTIMEZONE
BEGIN:VEVENT
DTSTART;TZID=America/New_York:20250924T160000
DTEND;TZID=America/New_York:20250924T210000
DTSTAMP:20260421T235825
CREATED:20250917T200546Z
LAST-MODIFIED:20250921T200148Z
UID:1438-1758729600-1758747600@thegreensatirem.com
SUMMARY:Oktoberfest
DESCRIPTION:
URL:https://thegreensatirem.com/event/oktoberfest-5/
LOCATION:The Greens\, 64 Ridgway Dr\, Dallas\, PA\, 18612\, United States
CATEGORIES:The Greens at Irem Clubhouse,Themed Dinner
END:VEVENT
BEGIN:VEVENT
DTSTART;TZID=America/New_York:20250925T160000
DTEND;TZID=America/New_York:20250925T210000
DTSTAMP:20260421T235825
CREATED:20250917T200958Z
LAST-MODIFIED:20250921T200029Z
UID:1440-1758816000-1758834000@thegreensatirem.com
SUMMARY:Oktoberfest
DESCRIPTION:
URL:https://thegreensatirem.com/event/oktoberfest-6/
LOCATION:The Greens\, 64 Ridgway Dr\, Dallas\, PA\, 18612\, United States
CATEGORIES:The Greens at Irem Clubhouse,Themed Dinner
ATTACH;FMTTYPE=application/pdf:https://thegreensatirem.com/wp-content/uploads/2025/09/The-Greens-Oktoberfest-3-3.pdf
END:VEVENT
BEGIN:VEVENT
DTSTART;TZID=America/New_York:20250926T160000
DTEND;TZID=America/New_York:20250926T210000
DTSTAMP:20260421T235825
CREATED:20250917T201156Z
LAST-MODIFIED:20250921T195949Z
UID:1442-1758902400-1758920400@thegreensatirem.com
SUMMARY:Oktoberfest
DESCRIPTION:
URL:https://thegreensatirem.com/event/oktoberfest-7/
LOCATION:The Greens\, 64 Ridgway Dr\, Dallas\, PA\, 18612\, United States
CATEGORIES:The Greens at Irem Clubhouse,Themed Dinner
END:VEVENT
BEGIN:VEVENT
DTSTART;TZID=America/New_York:20250927T160000
DTEND;TZID=America/New_York:20250927T210000
DTSTAMP:20260421T235825
CREATED:20250917T201238Z
LAST-MODIFIED:20250921T195901Z
UID:1444-1758988800-1759006800@thegreensatirem.com
SUMMARY:Oktoberfest
DESCRIPTION:
URL:https://thegreensatirem.com/event/oktoberfest-8/
LOCATION:The Greens\, 64 Ridgway Dr\, Dallas\, PA\, 18612\, United States
CATEGORIES:The Greens at Irem Clubhouse,Themed Dinner
END:VEVENT
END:VCALENDAR