BEGIN:VCALENDAR
VERSION:2.0
PRODID:-//The Greens at Irem Clubhouse - ECPv6.15.20//NONSGML v1.0//EN
CALSCALE:GREGORIAN
METHOD:PUBLISH
X-WR-CALNAME:The Greens at Irem Clubhouse
X-ORIGINAL-URL:https://thegreensatirem.com
X-WR-CALDESC:Events for The Greens at Irem Clubhouse
REFRESH-INTERVAL;VALUE=DURATION:PT1H
X-Robots-Tag:noindex
X-PUBLISHED-TTL:PT1H
BEGIN:VTIMEZONE
TZID:America/New_York
BEGIN:DAYLIGHT
TZOFFSETFROM:-0500
TZOFFSETTO:-0400
TZNAME:EDT
DTSTART:20240310T070000
END:DAYLIGHT
BEGIN:STANDARD
TZOFFSETFROM:-0400
TZOFFSETTO:-0500
TZNAME:EST
DTSTART:20241103T060000
END:STANDARD
BEGIN:DAYLIGHT
TZOFFSETFROM:-0500
TZOFFSETTO:-0400
TZNAME:EDT
DTSTART:20250309T070000
END:DAYLIGHT
BEGIN:STANDARD
TZOFFSETFROM:-0400
TZOFFSETTO:-0500
TZNAME:EST
DTSTART:20251102T060000
END:STANDARD
BEGIN:DAYLIGHT
TZOFFSETFROM:-0500
TZOFFSETTO:-0400
TZNAME:EDT
DTSTART:20260308T070000
END:DAYLIGHT
BEGIN:STANDARD
TZOFFSETFROM:-0400
TZOFFSETTO:-0500
TZNAME:EST
DTSTART:20261101T060000
END:STANDARD
END:VTIMEZONE
BEGIN:VEVENT
DTSTART;TZID=America/New_York:20251001T160000
DTEND;TZID=America/New_York:20251001T210000
DTSTAMP:20260421T222055
CREATED:20250930T043610Z
LAST-MODIFIED:20250930T141257Z
UID:1474-1759334400-1759352400@thegreensatirem.com
SUMMARY:Fork Over Love Week
DESCRIPTION:
URL:https://thegreensatirem.com/event/fork-over-love-week/
LOCATION:The Greens\, 64 Ridgway Dr\, Dallas\, PA\, 18612\, United States
CATEGORIES:The Greens at Irem Clubhouse,Themed Dinner
ATTACH;FMTTYPE=application/pdf:https://thegreensatirem.com/wp-content/uploads/2025/09/Greens-3-3.pdf
END:VEVENT
BEGIN:VEVENT
DTSTART;TZID=America/New_York:20251002T160000
DTEND;TZID=America/New_York:20251002T210000
DTSTAMP:20260421T222055
CREATED:20250930T043745Z
LAST-MODIFIED:20250930T141346Z
UID:1476-1759420800-1759438800@thegreensatirem.com
SUMMARY:Fork Over Love Week
DESCRIPTION:
URL:https://thegreensatirem.com/event/fork-over-love-week-2/
LOCATION:The Greens\, 64 Ridgway Dr\, Dallas\, PA\, 18612\, United States
CATEGORIES:The Greens at Irem Clubhouse,Themed Dinner
ATTACH;FMTTYPE=application/pdf:https://thegreensatirem.com/wp-content/uploads/2025/09/Greens-3-4.pdf
END:VEVENT
BEGIN:VEVENT
DTSTART;TZID=America/New_York:20251003T160000
DTEND;TZID=America/New_York:20251003T210000
DTSTAMP:20260421T222055
CREATED:20250930T043859Z
LAST-MODIFIED:20250930T141201Z
UID:1478-1759507200-1759525200@thegreensatirem.com
SUMMARY:Fork Over Love Week
DESCRIPTION:
URL:https://thegreensatirem.com/event/fork-over-love-week-3/
LOCATION:The Greens\, 64 Ridgway Dr\, Dallas\, PA\, 18612\, United States
CATEGORIES:The Greens at Irem Clubhouse,Themed Dinner
ATTACH;FMTTYPE=application/pdf:https://thegreensatirem.com/wp-content/uploads/2025/09/Greens-3-1.pdf
END:VEVENT
BEGIN:VEVENT
DTSTART;TZID=America/New_York:20251004T160000
DTEND;TZID=America/New_York:20251004T210000
DTSTAMP:20260421T222055
CREATED:20250930T044006Z
LAST-MODIFIED:20250930T141133Z
UID:1480-1759593600-1759611600@thegreensatirem.com
SUMMARY:Fork Over Love Week
DESCRIPTION:
URL:https://thegreensatirem.com/event/fork-over-love-week-4/
LOCATION:The Greens\, 64 Ridgway Dr\, Dallas\, PA\, 18612\, United States
CATEGORIES:The Greens at Irem Clubhouse,Themed Dinner
ATTACH;FMTTYPE=application/pdf:https://thegreensatirem.com/wp-content/uploads/2025/09/Greens-3-5.pdf
END:VEVENT
BEGIN:VEVENT
DTSTART;TZID=America/New_York:20251016T183000
DTEND;TZID=America/New_York:20251016T220000
DTSTAMP:20260421T222055
CREATED:20250909T222309Z
LAST-MODIFIED:20250909T222309Z
UID:1419-1760639400-1760652000@thegreensatirem.com
SUMMARY:Pumpkin Carving Party
DESCRIPTION:
URL:https://thegreensatirem.com/event/pumpkin-carving-party/
LOCATION:The Greens\, 64 Ridgway Dr\, Dallas\, PA\, 18612\, United States
CATEGORIES:The Greens at Irem Clubhouse,Themed Dinner
ATTACH;FMTTYPE=application/pdf:https://thegreensatirem.com/wp-content/uploads/2025/09/The-Greens-Pumpkin-Carving-Menu.pdf
END:VEVENT
END:VCALENDAR